BEGIN:VCALENDAR
VERSION:2.0
PRODID:-//SolidServicios - ECPv6.3.3.1//NONSGML v1.0//EN
CALSCALE:GREGORIAN
METHOD:PUBLISH
X-WR-CALNAME:SolidServicios
X-ORIGINAL-URL:https://solidservicios.com
X-WR-CALDESC:Eventos para SolidServicios
REFRESH-INTERVAL;VALUE=DURATION:PT1H
X-Robots-Tag:noindex
X-PUBLISHED-TTL:PT1H
BEGIN:VTIMEZONE
TZID:America/Mexico_City
BEGIN:DAYLIGHT
TZOFFSETFROM:-0600
TZOFFSETTO:-0500
TZNAME:CDT
DTSTART:20250406T080000
END:DAYLIGHT
BEGIN:STANDARD
TZOFFSETFROM:-0500
TZOFFSETTO:-0600
TZNAME:CST
DTSTART:20251026T070000
END:STANDARD
END:VTIMEZONE
BEGIN:VEVENT
DTSTART;TZID=America/Mexico_City:20250905T160000
DTEND;TZID=America/Mexico_City:20250905T170000
DTSTAMP:20260421T191413
CREATED:20250829T234739Z
LAST-MODIFIED:20250829T235623Z
UID:31648-1757088000-1757091600@solidservicios.com
SUMMARY:WEBINAR l "Más Allá de SOLIDWORKS Simulation: Análisis Avanzados para Desafíos Reales"
DESCRIPTION:Impartido por: \nIng. David Pérez \nIngeniero de aplicaciones \nIng. Salvador Cruz   \nAsesor Experto \nFecha y Hora: \nViernes 05 de septiembre del 2025 | 4:00 pm a 5:00 pm \nDescripción:  \n¿Necesitas llevar tus simulaciones más allá de lo que ofrece SOLIDWORKS Simulation? \nEn este webinar te presentaremos el rol de Structural Mechanics Engineer\, una solución avanzada permite abordar desafíos de simulación complejos con mayor precisión y capacidad. \nExploraremos casos de estudio reales que incluyen: \nAnálisis no lineales complejos \nSimulaciones explícitas para eventos altamente dinámicos \nTecnologías avanzadas como SPH (Smoothed Particle Hydrodynamics) y CEL (Coupled Eulerian-Lagrangian) \nEste contenido está especialmente diseñado para profesionales e ingenieros que requieren un nivel superior de simulación estructural \n🎯 Descubre cómo puedes optimizar\, validar y desafiar tus diseños con tecnología de simulación de última generación. \n¡REGISTRARSE AHORA!
URL:https://solidservicios.com/cal/webinar-l-mas-alla-de-solidworks-simulation-analisis-avanzados-para-desafios-reales/
END:VEVENT
BEGIN:VEVENT
DTSTART;TZID=America/Mexico_City:20250912T160000
DTEND;TZID=America/Mexico_City:20250912T170000
DTSTAMP:20260421T191413
CREATED:20250829T234951Z
LAST-MODIFIED:20250829T234951Z
UID:31650-1757692800-1757696400@solidservicios.com
SUMMARY:TALLER l Automatización de Diseño con DriveWorks Xpress
DESCRIPTION:Impartido por: \nIng. Hiram Lugo \nIngeniero Experto  \nFecha y Hora: \nViernes 12 de septiembre del 2025 | 4:00 pm a 5:00 pm \nDescripción:  \nTe invitamos a participar en nuestro taller práctico\, donde exploraremos cómo aprovechar DriveWorks Xpress para automatizar procesos de diseño en piezas y ensamblajes. \nDurante la sesión\, presentaremos un caso práctico completo\, desde la creación de formularios hasta la configuración de reglas y reutilización de plantillas para futuros proyectos. Aprenderás paso a paso cómo implementar esta herramienta integrada en SOLIDWORKS para agilizar tareas repetitivas\, reducir errores y mejorar la eficiencia en el desarrollo de productos. \n¡REGISTRARSE AHORA!
URL:https://solidservicios.com/cal/taller-l-automatizacion-de-diseno-con-driveworks-xpress/
END:VEVENT
BEGIN:VEVENT
DTSTART;TZID=America/Mexico_City:20250919T160000
DTEND;TZID=America/Mexico_City:20250919T170000
DTSTAMP:20260421T191413
CREATED:20250829T235341Z
LAST-MODIFIED:20250829T235341Z
UID:31652-1758297600-1758301200@solidservicios.com
SUMMARY:WEBINAR l Domina Máquinas CNC Complejas con la Simplicidad de SolidCAM
DESCRIPTION:Impartido por: \nIng. Alberto Robles \nCoordinador de Ingeniera  \nIng. Alondra Mariscal    \nAsesor Experto Ingeniera de aplicaciones   \nIng. Sandra García  \nAsesora Experta CAM \nFecha y Hora: \nViernes 19 de septiembre del 2025 | 4:00 pm a 5:00 pm \nDescripción:  \n¿Te enfrentas a piezas complejas y maquinaria CNC avanzada?\nEn este webinar descubrirás cómo programar de forma sencilla máquinas CNC complejas utilizando las potentes herramientas de SolidCAM. \nExploraremos cómo sacar el máximo provecho de centros de maquinado de 3\, 4 y 5 ejes simultáneos\, así como de tornos suizos y máquinas multitarea (multitask)\, todo con una interfaz intuitiva y funcionalidades que simplifican hasta los procesos más complicados\n🎯 No importa qué tan compleja sea la máquina o la pieza — SolidCAM hace que la programación sea simple\, eficiente y precisa.. \n¡REGISTRARSE AHORA!
URL:https://solidservicios.com/cal/webinar-l-domina-maquinas-cnc-complejas-con-la-simplicidad-de-solidcam/
END:VEVENT
BEGIN:VEVENT
DTSTART;TZID=America/Mexico_City:20250926T160000
DTEND;TZID=America/Mexico_City:20250926T170000
DTSTAMP:20260421T191413
CREATED:20250829T235553Z
LAST-MODIFIED:20250829T235553Z
UID:31654-1758902400-1758906000@solidservicios.com
SUMMARY:TALLER l Creación de Plantillas Personalizadas desde 0 en SOLIDWORKS
DESCRIPTION:Impartido por: \nIng. Hiram Lugo \nIngeniero de aplicaciones \nFecha y Hora: \nViernes 26 de septiembre del 2025 | 4:00 pm a 5:00 pm \nDescripción:  \n¿Quieres optimizar y estandarizar la creación de tus dibujos técnicos? \nEn este taller práctico aprenderás a diseñar una plantilla personalizada en SOLIDWORKS desde cero\, considerando aspectos clave como el tamaño y formato de hoja\, configuración\, propiedades automáticas y vistas de dibujo predefinidas. \nTe guiaremos paso a paso para que puedas automatizar la generación de dibujos\, logrando así mayor eficiencia y consistencia en tus proyectos. \n¡No pierdas la oportunidad de transformar tu flujo de trabajo y llevar la documentación de tus diseños al siguiente nivel! \n¡REGISTRARSE AHORA!
URL:https://solidservicios.com/cal/taller-l-creacion-de-plantillas-personalizadas-desde-0-en-solidworks/
END:VEVENT
END:VCALENDAR