BEGIN:VCALENDAR
VERSION:2.0
PRODID:-//SolidServicios - ECPv6.3.3.1//NONSGML v1.0//EN
CALSCALE:GREGORIAN
METHOD:PUBLISH
X-ORIGINAL-URL:https://solidservicios.com
X-WR-CALDESC:Eventos para SolidServicios
REFRESH-INTERVAL;VALUE=DURATION:PT1H
X-Robots-Tag:noindex
X-PUBLISHED-TTL:PT1H
BEGIN:VTIMEZONE
TZID:America/Mexico_City
BEGIN:DAYLIGHT
TZOFFSETFROM:-0600
TZOFFSETTO:-0500
TZNAME:CDT
DTSTART:20260405T080000
END:DAYLIGHT
BEGIN:STANDARD
TZOFFSETFROM:-0500
TZOFFSETTO:-0600
TZNAME:CST
DTSTART:20261025T070000
END:STANDARD
END:VTIMEZONE
BEGIN:VEVENT
DTSTART;TZID=America/Mexico_City:20260123T160000
DTEND;TZID=America/Mexico_City:20260123T170000
DTSTAMP:20260425T080845
CREATED:20260121T160030Z
LAST-MODIFIED:20260121T160030Z
UID:32341-1769184000-1769187600@solidservicios.com
SUMMARY:📁 Webinar: Descubre qué más contiene tu licencia SOLIDWORKS
DESCRIPTION:Impartido por: \nIng. Yuliana Romero \nIngeniera de aplicaciones  \nIng. Obed Venegas \nAsesor Experto 3DExperience  \nFecha y Hora: \nViernes 23 de enero del 2026 | 4:00 pm a 5:00 pm \nDescripción:  \n¿Sabías que tu licencia de SOLIDWORKS Desktop incluye acceso a la plataforma 3DEXPERIENCE? \nTu licencia de SOLIDWORKS Desktop no se limita al diseño CAD.\nIncluye acceso a 3DEXPERIENCE\, una plataforma que amplía tus capacidades de gestión\, colaboración y control de archivos. \nEn este webinar conocerás los roles disponibles en SOLIDWORKS Desktop y 3DEXPERIENCE SOLIDWORKS\, y cómo utilizarlos para trabajar de manera más eficiente con tu información de diseño. \nAprenderás a aplicar filtros para la apertura e inspección de archivos en 3DEXPERIENCE\, optimizando la búsqueda\, revisión y organización de proyectos\, aprovechando herramientas que ya están incluidas en tu licencia. \n👉 Regístrate y descubre cómo maximizar el valor de tus licencias SOLIDWORKS. \n¡REGISTRARSE AHORA!
URL:https://solidservicios.com/cal/%f0%9f%93%81-webinar-descubre-que-mas-contiene-tu-licencia-solidworks/
END:VEVENT
BEGIN:VEVENT
DTSTART;TZID=America/Mexico_City:20260130T160000
DTEND;TZID=America/Mexico_City:20260130T170000
DTSTAMP:20260425T080845
CREATED:20260126T231353Z
LAST-MODIFIED:20260126T231412Z
UID:32349-1769788800-1769792400@solidservicios.com
SUMMARY:🎓Taller: Preparación para la Certificación CSWPA – Sheet Metal
DESCRIPTION:Impartido por: \nIng. Alondra Mariscal  \nIngeniera de aplicaciones  \nFecha y Hora: \nViernes 30 de enero del 2026 | 4:00 pm a 5:00 pm \nDescripción:  \n\nPrepárate para la Certificación CSWPA – Sheet Metal en SOLIDWORKS \n¿Quieres validar tu nivel profesional en SOLIDWORKS Sheet Metal y aumentar tu valor como ingeniero o diseñador CAD? \nParticipa en nuestro taller online gratuito\, enfocado en ayudarte a comprender a fondo cómo es el examen de certificación CSWPA – Sheet Metal y cómo prepararte de forma estratégica para aprobarlo con confianza. \nEn esta sesión aprenderás a: \n\nEntender la estructura del examen y los criterios con los que se evalúan tus habilidades\nResolver ejercicios tipo examen\, similares a los que encontrarás en la certificación oficial\nAplicar recomendaciones prácticas y buenas prácticas que te permitirán prepararte de manera más eficiente\n\nEste taller está pensado para quienes trabajan o están familiarizados con el diseño de chapa metálica en SOLIDWORKS y desean dar un paso más en su desarrollo profesional. \n\n¡REGISTRARSE AHORA!
URL:https://solidservicios.com/cal/%f0%9f%8e%93taller-preparacion-para-la-certificacion-cswpa-sheet-metal/
END:VEVENT
END:VCALENDAR