BEGIN:VCALENDAR
VERSION:2.0
PRODID:-//SolidServicios - ECPv6.3.3.1//NONSGML v1.0//EN
CALSCALE:GREGORIAN
METHOD:PUBLISH
X-ORIGINAL-URL:https://solidservicios.com
X-WR-CALDESC:Eventos para SolidServicios
REFRESH-INTERVAL;VALUE=DURATION:PT1H
X-Robots-Tag:noindex
X-PUBLISHED-TTL:PT1H
BEGIN:VTIMEZONE
TZID:America/Mexico_City
BEGIN:DAYLIGHT
TZOFFSETFROM:-0600
TZOFFSETTO:-0500
TZNAME:CDT
DTSTART:20260405T080000
END:DAYLIGHT
BEGIN:STANDARD
TZOFFSETFROM:-0500
TZOFFSETTO:-0600
TZNAME:CST
DTSTART:20261025T070000
END:STANDARD
END:VTIMEZONE
BEGIN:VEVENT
DTSTART;TZID=America/Mexico_City:20260424T160000
DTEND;TZID=America/Mexico_City:20260424T170000
DTSTAMP:20260421T061949
CREATED:20260414T165454Z
LAST-MODIFIED:20260415T141156Z
UID:32652-1777046400-1777050000@solidservicios.com
SUMMARY:Taller | Prepárate para aprobar la certificación CSWA (Parte 1)
DESCRIPTION:Domina los fundamentos clave para aprobar la certificación CSWA en SOLIDWORKS\nAprende a resolver correctamente ejercicios reales de certificación\, optimiza tu modelado y mejora tu desempeño técnico en un taller práctico guiado por expertos. \nEste taller está diseñado para profesionales que buscan validar su conocimiento en diseño CAD y mejorar su precisión al trabajar con SOLIDWORKS. \nA lo largo del taller\, obtendrás claridad sobre la estructura del examen CSWA\, dominarás las herramientas esenciales y aprenderás a abordar correctamente las preguntas más comunes\, reduciendo errores y aumentando tu eficiencia. \nEn esta sesión aprenderás: \n✔️ Mejora tu precisión al modelar piezas\nDesarrolla un modelado más exacto y alineado a las dimensiones requeridas en cada ejercicio. \n✔️ Reduce errores en ejercicios de certificación\nIdentifica fallos comunes y aprende a evitarlos durante el examen. \n✔️ Aumenta tu velocidad de resolución\nOptimiza tu flujo de trabajo para completar los ejercicios en menor tiempo. \n✔️ Refuerza fundamentos técnicos sólidos en CAD\nConsolida conceptos clave que son evaluados constantemente en la certificación. \n✔️ Incrementa tu valor profesional con una certificación reconocida\nDestaca en el mercado laboral validando tus habilidades en SOLIDWORKS.
URL:https://solidservicios.com/cal/taller-curso-de-preparacion-cswa-parte-1/
CATEGORIES:Taller
ORGANIZER;CN="SOLIDSERVICIOS":MAILTO:info@solidservicios.com
END:VEVENT
BEGIN:VEVENT
DTSTART;TZID=America/Mexico_City:20260430T160000
DTEND;TZID=America/Mexico_City:20260430T170000
DTSTAMP:20260421T061949
CREATED:20260417T145556Z
LAST-MODIFIED:20260417T155905Z
UID:32789-1777564800-1777568400@solidservicios.com
SUMMARY:Webinar | Reduce Costos y Errores en Inyección desde la Etapa de Diseño
DESCRIPTION:Aprende a simular procesos de inyección de plástico para anticipar fallas\, optimizar diseños y mejorar la calidad antes de fabricar.\nEn este webinar aprenderás cómo utilizar herramientas de simulación para analizar el comportamiento del material durante el proceso de inyección de plástico\, ademas de evaluar distintos escenarios de llenado\, parámetros de proceso y configuraciones de diseño para identificar posibles defectos antes de la fabricación. \nDescubre cómo tomar decisiones más inteligentes\, reducir riesgos y optimizar tus procesos de manufactura desde la etapa de diseño. \n¿Qué lograrás en este webinar?\n\nValidar el llenado de piezas antes de producción\nDetectar problemas potenciales en etapas tempranas\nOptimizar geometría y parámetros de inyección\nReducir iteraciones físicas y pruebas costosas\nMejorar la calidad final del producto\n\n  \nSi buscas mejorar la eficiencia de tus procesos y reducir riesgos\, este webinar te dará una base clara y aplicable. Regístrate y reserva tu lugar
URL:https://solidservicios.com/cal/webinar-reduce-costos-y-errores-en-inyeccion-desde-la-etapa-de-diseno/
CATEGORIES:Webinar
END:VEVENT
END:VCALENDAR