BEGIN:VCALENDAR
VERSION:2.0
PRODID:-//SolidServicios - ECPv6.3.3.1//NONSGML v1.0//EN
CALSCALE:GREGORIAN
METHOD:PUBLISH
X-ORIGINAL-URL:https://solidservicios.com
X-WR-CALDESC:Eventos para SolidServicios
REFRESH-INTERVAL;VALUE=DURATION:PT1H
X-Robots-Tag:noindex
X-PUBLISHED-TTL:PT1H
BEGIN:VTIMEZONE
TZID:America/Mexico_City
BEGIN:DAYLIGHT
TZOFFSETFROM:-0600
TZOFFSETTO:-0500
TZNAME:CDT
DTSTART:20230402T080000
END:DAYLIGHT
BEGIN:STANDARD
TZOFFSETFROM:-0500
TZOFFSETTO:-0600
TZNAME:CST
DTSTART:20231029T070000
END:STANDARD
BEGIN:DAYLIGHT
TZOFFSETFROM:-0600
TZOFFSETTO:-0500
TZNAME:CDT
DTSTART:20240407T080000
END:DAYLIGHT
BEGIN:STANDARD
TZOFFSETFROM:-0500
TZOFFSETTO:-0600
TZNAME:CST
DTSTART:20241027T070000
END:STANDARD
END:VTIMEZONE
BEGIN:VEVENT
DTSTART;TZID=America/Mexico_City:20240322T160000
DTEND;TZID=America/Mexico_City:20240322T170000
DTSTAMP:20260421T163002
CREATED:20240220T232845Z
LAST-MODIFIED:20240221T001303Z
UID:27989-1711123200-1711126800@solidservicios.com
SUMMARY:WEBINAR | Rompe las barreras de la comunicación en tus proyectos
DESCRIPTION:Impartido por: \nIng. Noe Núñez\nIngeniero de aplicaciones Elite \nFecha y Hora: \nViernes 22 de marzo de 2024 | 4:00 pm a 5:00 pm \nDescripción:  \nExisten barreras de comunicación entre equipos de trabajo que ralentiza nuestras operaciones. Descubre como los miembros pueden interactuar\, programar y comunicarse con todas las cadenas de mando dentro de un proyecto de trabajo.  \n ¡REGISTRARSE AHORA!
URL:https://solidservicios.com/cal/webinar-3dexperience-project-manager/
END:VEVENT
BEGIN:VEVENT
DTSTART;TZID=America/Mexico_City:20240315T160000
DTEND;TZID=America/Mexico_City:20240315T170000
DTSTAMP:20260421T163002
CREATED:20240220T232418Z
LAST-MODIFIED:20240313T173328Z
UID:27987-1710518400-1710522000@solidservicios.com
SUMMARY:TALLER | Puesta en Marcha: Programación CNC
DESCRIPTION:Impartido por: \nIng. Alberto Robles\nCoordinador de Ingeniería  \nFecha y Hora: \nViernes 15 de marzo de 2024 | 4:00 pm a 5:00 pm \nDescripción:  \n¿Tareas repetitivas en CAM?\, Sabemos lo tedioso que es esto\, por ello\, te taremos esta solución que te ayudara a automatizar tus tareas\, genera planes de operación personalizados y creo tu propio tool Crib.  \n ¡REGISTRARSE AHORA!
URL:https://solidservicios.com/cal/taller-puesta-en-marcha-programacion-cnc/
END:VEVENT
BEGIN:VEVENT
DTSTART;TZID=America/Mexico_City:20240313T160000
DTEND;TZID=America/Mexico_City:20240313T170000
DTSTAMP:20260421T163002
CREATED:20240220T232051Z
LAST-MODIFIED:20240223T170511Z
UID:27985-1710345600-1710349200@solidservicios.com
SUMMARY:WEBINAR EXTRA |  Todo lo que tienes que saber sobre scanners 3D
DESCRIPTION:Impartido por: \nIng. Hiram Lugo\nIngeniero de aplicaciones  \nLic. Jaime Borrego \nAsesor Experto CAD(CAM \nFecha y Hora: \nMiércoles 13 de marzo de 2024 | 4:00 pm a 5:00 pm \nDescripción:  \nEn este webinar te diremos para que sirven\, como funcionan\, y que puntos relevantes debes tener en cuenta para elegir un escáner 3D según tus necesidades. \n ¡REGISTRARSE AHORA!
URL:https://solidservicios.com/cal/webinar-extra-impresion-3d-para-principiantes/
END:VEVENT
BEGIN:VEVENT
DTSTART;TZID=America/Mexico_City:20240308T160000
DTEND;TZID=America/Mexico_City:20240308T170000
DTSTAMP:20260421T163002
CREATED:20240220T231511Z
LAST-MODIFIED:20240229T185405Z
UID:27983-1709913600-1709917200@solidservicios.com
SUMMARY:WEBINAR | Ciberseguridad en evolución: Perspectivas sobre las tendencias y desafíos actuales
DESCRIPTION:Impartido por: \nIng. Ruben González  \nGerente de Ingeniería\n \n Ing. Saúl Ochoa \nIngeniero en desarrollo de Software \nFecha y Hora: \nViernes 8 de marzo de 2024 | 4:00 pm a 5:00 pm \nDescripción:  \nEn el ámbito del internet de las cosas\, los sistemas y equipos son susceptibles a recibir una variedad de ataques \nNo importa si eres un profesional experimentado en ciberseguridad o simplemente desea comprender mejor los desafíos actuales. \nEn este webinar te dará conocimientos y perspectivas claves para entender mejor el mundo actual de la ciberseguridad. \n ¡REGISTRARSE AHORA!
URL:https://solidservicios.com/cal/webinar-seguridad-industrial/
END:VEVENT
BEGIN:VEVENT
DTSTART;TZID=America/Mexico_City:20240301T160000
DTEND;TZID=America/Mexico_City:20240301T170000
DTSTAMP:20260421T163002
CREATED:20240220T230354Z
LAST-MODIFIED:20240220T230936Z
UID:27978-1709308800-1709312400@solidservicios.com
SUMMARY:TALLER | Novedades SolidCAM
DESCRIPTION:Impartido por: \nIng. Agustín Pérez\nIngeniero de Aplicaciones  \nFecha y Hora: \nViernes 1 de marzo de 2024 | 4:00 pm a 5:00 pm \nDescripción:  \n Conoce las novedades y actualizaciones de la solución más eficiente para maquinado. \n  \n ¡REGISTRARSE AHORA!
URL:https://solidservicios.com/cal/27978/
END:VEVENT
BEGIN:VEVENT
DTSTART;TZID=America/Mexico_City:20240223T160000
DTEND;TZID=America/Mexico_City:20240223T170000
DTSTAMP:20260421T163002
CREATED:20240129T223107Z
LAST-MODIFIED:20240220T230929Z
UID:27889-1708704000-1708707600@solidservicios.com
SUMMARY:WEBINAR | ¿El mejor corte láser y anidado? Aquí te lo explicamos. Cómo obtener el mejor desempeño en la programación CNC.
DESCRIPTION:Impartido por: \nIng. Alberto Robles\nCoordinador de Ingeniería Avanzada  \n Ing. Jorge Salazar \nGerente de Ventas Multirpoducto \nFecha y Hora: \nViernes 23 de febrero de 2024 | 4:00 pm a 5:00 pm \nDescripción:  \n¡Soluciones de chapa metálica! Mejora la eficiencia de producción desde cualquier tecnología de maquina existente de corte.  \n ¡REGISTRARSE AHORA!
URL:https://solidservicios.com/cal/webinar-el-mejor-corte-laser-y-anidado-aqui-te-lo-explicamos-como-obtener-el-mejor-desempeno-en-la-programacion-cnc/
END:VEVENT
BEGIN:VEVENT
DTSTART;TZID=America/Mexico_City:20240221T160000
DTEND;TZID=America/Mexico_City:20240221T170000
DTSTAMP:20260421T163002
CREATED:20231213T225809Z
LAST-MODIFIED:20240130T161733Z
UID:27650-1708531200-1708534800@solidservicios.com
SUMMARY:WEBINAR EXTRA | Si quieres seguir perdiendo oro NO uses impresión 3D
DESCRIPTION:Impartido por: \nIng. Hiram Lugo\nApplication Engineer\n \nLic. Jaime Borrego\nAsesor Expert CAD/CAM \nFecha y Hora: \nMiércoles 21 de febrero de 2024 | 4:00 pm a 5:00 pm \nDescripción:  \nDurante el webinar se englobarán puntos relacionados a la impresión 3D enfocándose e las ventajas y el alcance que puede llegar a tener en el sector joyero. \n ¡REGISTRARSE AHORA!
URL:https://solidservicios.com/cal/webinar-extra-si-quieres-seguir-perdiendo-oro-no-uses-impresion-3d/
ORGANIZER;CN="SOLIDSERVICIOS":MAILTO:info@solidservicios.com
END:VEVENT
BEGIN:VEVENT
DTSTART;TZID=America/Mexico_City:20240216T160000
DTEND;TZID=America/Mexico_City:20240216T170000
DTSTAMP:20260421T163002
CREATED:20240129T222101Z
LAST-MODIFIED:20240202T144641Z
UID:27886-1708099200-1708102800@solidservicios.com
SUMMARY:TALLER | Simula y descubre como conseguir resultados fiables y precisos con estas múltiples herramientas
DESCRIPTION:Impartido por: \nIng. Fernando Rivera\nApplication Engineer \nFecha y Hora: \nViernes 16 de febrero de 2024 | 4:00 pm a 5:00 pm \nDescripción:  \nConoce múltiples herramientas para reducir los tiempos obteniendo resultados fiables. Mediante herramientas Solidworks Simulation\, detectemos las zonas de conflicto y obtengamos los mejores resultados precisos \n ¡REGISTRARSE AHORA!
URL:https://solidservicios.com/cal/taller-simula-y-descubre-como-conseguir-resultados-fiables-y-precisos-con-estas-multiples-herramientas/
END:VEVENT
BEGIN:VEVENT
DTSTART;TZID=America/Mexico_City:20240214T160000
DTEND;TZID=America/Mexico_City:20240214T170000
DTSTAMP:20260421T163002
CREATED:20240129T221838Z
LAST-MODIFIED:20240202T144519Z
UID:27883-1707926400-1707930000@solidservicios.com
SUMMARY:WEBINAR EXTRA | : Por amor al CAD: 5 hacks de herramientas de diseño
DESCRIPTION:Impartido por: \nIng. Juan Pérez\nApplication Engineer\n \nLic. Alfonso Trueba \nManager Sales CAD \nFecha y Hora: \nMiércoles 14 de febrero de 2024 | 4:00 pm a 5:00 pm \nDescripción:  \nNo importa con que programa de diseño “andes”\, siempre y cuando sea lo que tu buscas. Todos los programas de diseño deben tener “ese no sé qué\, que qué se yo” y nosotros te vamos a platicar de cuáles son las 5 cosas más importantes en las que te debes de fijar antes de “comprometerte” con un programa de diseño CAD. \n ¡REGISTRARSE AHORA!
URL:https://solidservicios.com/cal/webinar-extra-por-amor-al-cad-5-hacks-de-herramientas-de-diseno/
END:VEVENT
BEGIN:VEVENT
DTSTART;TZID=America/Mexico_City:20240209T160000
DTEND;TZID=America/Mexico_City:20240209T170000
DTSTAMP:20260421T163002
CREATED:20240129T220348Z
LAST-MODIFIED:20240202T144354Z
UID:27880-1707494400-1707498000@solidservicios.com
SUMMARY:WEBINAR | Seguridad Industrial
DESCRIPTION:Impartido por: \nIng. Ruben González\nManager Engineer\n \nIng. Edwin Barcena \nManager Sales \nFecha y Hora: \nViernes 9 de febrero de 2024 | 4:00 pm a 5:00 pm \nDescripción:  \n¿Qué es la tecnología operativa OT\, y porque necesitas ciberseguridad para protegerla?\nanteriormente la ciberseguridad de OT no era necesaria por que no estaba conectada a internet\, pero con la introducción de la industria 4.0\, la infraestructura también está en peligro. \n ¡REGISTRARSE AHORA!
URL:https://solidservicios.com/cal/27880/
END:VEVENT
BEGIN:VEVENT
DTSTART;TZID=America/Mexico_City:20240205T080000
DTEND;TZID=America/Mexico_City:20240209T170000
DTSTAMP:20260421T163002
CREATED:20231114T145854Z
LAST-MODIFIED:20231114T201803Z
UID:27505-1707120000-1707498000@solidservicios.com
SUMMARY:Curso Avanzado de Modelado de ensambles
DESCRIPTION:curso avanzado\nSOLIDWORKS Modelado de Ensambles \n \nModalidad Remota (Online). \nEntrega de Certificado al completar la capacitación. \n¡Inscríbete hoy mismo! \n ¡REGISTRARSE AHORA!
URL:https://solidservicios.com/cal/27505/
ORGANIZER;CN="SOLIDSERVICIOS":MAILTO:info@solidservicios.com
END:VEVENT
BEGIN:VEVENT
DTSTART;TZID=America/Mexico_City:20240202T160000
DTEND;TZID=America/Mexico_City:20240202T170000
DTSTAMP:20260421T163002
CREATED:20240129T223743Z
LAST-MODIFIED:20240202T144224Z
UID:27893-1706889600-1706893200@solidservicios.com
SUMMARY:TALLER | SpeedPak Ensambles Grandes
DESCRIPTION:Impartido por: \nIng. Juan Pérez\nApplication Engineer.  \nFecha y Hora: \nViernes 2 de febrero de 2024 | 4:00 pm a 5:00 pm \nDescripción:  \nAprende agilizar el proceso de diseño y evita errores de relación de posición al insertar un ensamblaje grande y complejo  \n ¡REGISTRARSE AHORA!
URL:https://solidservicios.com/cal/taller-speedpak-ensambles-grandes/
END:VEVENT
BEGIN:VEVENT
DTSTART;TZID=America/Mexico_City:20240126T160000
DTEND;TZID=America/Mexico_City:20240126T170000
DTSTAMP:20260421T163002
CREATED:20231213T225511Z
LAST-MODIFIED:20231213T225511Z
UID:27648-1706284800-1706288400@solidservicios.com
SUMMARY:WEBINAR| Ventajas y alcances de la Impresión 3D
DESCRIPTION:Impartido por: \nIng. Hiram Lugo\nApplication Engineer\n \nFecha y Hora: \nViernes 26 de enero de 2024 | 4:00 pm a 5:00 pm \nDescripción:  \nConoce las ventajas y el alcance que puedes obtener al incluir la impresión 3D en tu proceso. Aprende desde ejemplos concretos con flujo de trabajo completo como se prepara una pieza desde el software. \n ¡REGISTRARSE AHORA!
URL:https://solidservicios.com/cal/webinar-ventajas-y-alcances-de-la-impresion-3d/
ORGANIZER;CN="SOLIDSERVICIOS":MAILTO:info@solidservicios.com
END:VEVENT
BEGIN:VEVENT
DTSTART;TZID=America/Mexico_City:20240122T080000
DTEND;TZID=America/Mexico_City:20240125T170000
DTSTAMP:20260421T163002
CREATED:20231114T145657Z
LAST-MODIFIED:20231114T201746Z
UID:27504-1705910400-1706202000@solidservicios.com
SUMMARY:Curso conceptos Básicos SOLIDWORKS
DESCRIPTION:SOLIDWORKS\nConceptos Básicos \n \nModalidad Remota (Online). \nEntrega de Certificado al completar la capacitación. \n¡Inscríbete hoy mismo! \n ¡REGISTRARSE AHORA!
URL:https://solidservicios.com/cal/curso-conceptos-basicos-solidworks-2/
ORGANIZER;CN="SOLIDSERVICIOS":MAILTO:info@solidservicios.com
END:VEVENT
BEGIN:VEVENT
DTSTART;TZID=America/Mexico_City:20240119T160000
DTEND;TZID=America/Mexico_City:20240119T170000
DTSTAMP:20260421T163002
CREATED:20231213T225227Z
LAST-MODIFIED:20231213T225227Z
UID:27646-1705680000-1705683600@solidservicios.com
SUMMARY:TALLER | Novedades 2024 de Chapa Metálica
DESCRIPTION:Impartido por: \nIng. Agustín Pérez\nApplication Engineer\n \nFecha y Hora: \nViernes 19 de enero de 2024 | 4:00 pm a 5:00 pm \nDescripción:  \nHaz tus diseños más simples para manufacturarlos\, con diferentes operaciones de brida y dobleces\, Con las herramientas de chapa metálica que te presentamos el diseño y la fabricación de estructuras metálicas no será un reto más. \n ¡REGISTRARSE AHORA!
URL:https://solidservicios.com/cal/taller-novedades-2024-de-chapa-metalica/
ORGANIZER;CN="SOLIDSERVICIOS":MAILTO:info@solidservicios.com
END:VEVENT
BEGIN:VEVENT
DTSTART;TZID=America/Mexico_City:20240115T080000
DTEND;TZID=America/Mexico_City:20240119T170000
DTSTAMP:20260421T163002
CREATED:20231114T145435Z
LAST-MODIFIED:20231114T201745Z
UID:27503-1705305600-1705683600@solidservicios.com
SUMMARY:Curso Avanzado Chapa Metalica
DESCRIPTION:curso avanzado\nSOLIDWORKS Chapa Metálica \n \nModalidad Remota (Online). \nEntrega de Certificado al completar la capacitación. \n¡Inscríbete hoy mismo! \n ¡REGISTRARSE AHORA!
URL:https://solidservicios.com/cal/27503/
ORGANIZER;CN="SOLIDSERVICIOS":MAILTO:info@solidservicios.com
END:VEVENT
BEGIN:VEVENT
DTSTART;TZID=America/Mexico_City:20240112T160000
DTEND;TZID=America/Mexico_City:20240112T170000
DTSTAMP:20260421T163002
CREATED:20231213T223907Z
LAST-MODIFIED:20231213T223907Z
UID:27644-1705075200-1705078800@solidservicios.com
SUMMARY:WEBINAR | Simulación para diseñadores
DESCRIPTION:Impartido por: \nIng. Luis Campos\nSimulation Coordinator\n \nFecha y Hora: \nViernes  12 de enero de 2024 | 4:00 pm a 5:00 pm \nDescripción: \n¿Buscas una evaluación eficiente del rendimiento del producto en condiciones estáticas lineales para guiar el proceso de diseño? \nAquí te presentaremos una solución que te ofrece capacidades de simulación térmica estática lineal\, frecuencia natural\, pandeo y de estado estable para una experiencia de prueba de productos rápida y eficiente. \n ¡REGISTRARSE AHORA!
URL:https://solidservicios.com/cal/webinar-simulacion-para-disenadores/
ORGANIZER;CN="SOLIDSERVICIOS":MAILTO:info@solidservicios.com
END:VEVENT
BEGIN:VEVENT
DTSTART;TZID=America/Mexico_City:20240105T160000
DTEND;TZID=America/Mexico_City:20240105T170000
DTSTAMP:20260421T163002
CREATED:20231213T222820Z
LAST-MODIFIED:20231213T223458Z
UID:27637-1704470400-1704474000@solidservicios.com
SUMMARY:TALLER | Tu Información contigo\, estés donde estés.
DESCRIPTION:Impartido por: \nIng. Noe Núñez\nIngeniero de Experto Elite\n \nFecha y Hora: \nViernes 5 de enero de 2024 | 4:00 pm a 5:00 pm \nDescripción:  \nTener toda la información centralizada y disponible en cualquier parte es muy fácil. Aprende a utilizar las herramientas de gestión de la nube con el cual podrás almacenar\, identificar\, gestionar\, revisar y documentar nuestros proyectos dentro de 3DEXPERIENCE. \n ¡REGISTRARSE AHORA!
URL:https://solidservicios.com/cal/taller-tu-informacion-contigo-estes-donde-estes/
ORGANIZER;CN="SOLIDSERVICIOS":MAILTO:info@solidservicios.com
END:VEVENT
BEGIN:VEVENT
DTSTART;TZID=America/Mexico_City:20231211T080000
DTEND;TZID=America/Mexico_City:20231211T170000
DTSTAMP:20260421T163002
CREATED:20231114T145110Z
LAST-MODIFIED:20231114T201808Z
UID:27502-1702281600-1702314000@solidservicios.com
SUMMARY:Curso conceptos Básicos SOLIDWORKS
DESCRIPTION:SOLIDWORKS\nConceptos Básicos \n \nModalidad Remota (Online). \nEntrega de Certificado al completar la capacitación. \n¡Inscríbete hoy mismo! \n ¡REGISTRARSE AHORA!
URL:https://solidservicios.com/cal/curso-conceptos-basicos-solidworks/
ORGANIZER;CN="SOLIDSERVICIOS":MAILTO:info@solidservicios.com
END:VEVENT
BEGIN:VEVENT
DTSTART;TZID=America/Mexico_City:20231208T160000
DTEND;TZID=America/Mexico_City:20231208T170000
DTSTAMP:20260421T163002
CREATED:20231030T185243Z
LAST-MODIFIED:20231030T193644Z
UID:27371-1702051200-1702054800@solidservicios.com
SUMMARY:TALLER | Solidworks Routing creación de elementos personalizados
DESCRIPTION:Impartido por: \nIng. Noe Núñez\nIngeniero de Experto Elite\n \nFecha y Hora: \nViernes 8 de diciembre de 2023 | 4:00 pm a 5:00 pm \nDescripción:  \nEn este taller exclusivo abordaremos la creación efectiva y rápida de componentes personalizados de SOLIDWORKS Routing para añadir a tus bibliotecas\, y como poderlos usar en tus instalaciones. \n ¡REGISTRARSE AHORA!
URL:https://solidservicios.com/cal/webinar-el-secreto-para-tener-todo-bajo-control/
ORGANIZER;CN="SOLIDSERVICIOS":MAILTO:info@solidservicios.com
END:VEVENT
BEGIN:VEVENT
DTSTART;TZID=America/Mexico_City:20231201T080000
DTEND;TZID=America/Mexico_City:20231201T170000
DTSTAMP:20260421T163002
CREATED:20231030T184100Z
LAST-MODIFIED:20231030T192303Z
UID:27370-1701417600-1701450000@solidservicios.com
SUMMARY:WEBINAR | El secreto para tener todo bajo control
DESCRIPTION:Impartido por: \nIng.  Noé Núñez\nIngeniero de Aplicaciones Elite \nFecha y Hora: \nViernes 1 de diciembre de 2023 | 4:00 pm a 5:00 pm \nDescripción: \nDescubre cómo la innovación que proporcionan las nuevas herramientas\, otorgan a las organizaciones una visión global y en tiempo real de su actividad empresarial y su ecosistema. Te explicaremos como es posible tener tu organización bajo control. \n ¡REGISTRARSE AHORA!
URL:https://solidservicios.com/cal/webinar-la-transformacion-digital-de-la-industria-de-chapa-metalica-3/
ORGANIZER;CN="SOLIDSERVICIOS":MAILTO:info@solidservicios.com
END:VEVENT
BEGIN:VEVENT
DTSTART;TZID=America/Mexico_City:20231124T160000
DTEND;TZID=America/Mexico_City:20231124T170000
DTSTAMP:20260421T163002
CREATED:20231030T182826Z
LAST-MODIFIED:20231030T183315Z
UID:27368-1700841600-1700845200@solidservicios.com
SUMMARY:TALLER | Piezas Soldadas\, Creación de perfiles personalizados
DESCRIPTION:Impartido por: \nIng.  Noé Núñez\nIngeniero de Aplicaciones Elite \nFecha y Hora: \nViernes 24 de noviembre de 2023 | 4:00 pm a 5:00 pm \nDescripción: \nEn este taller exclusivo te mostramos como crear nuestros propios perfiles con puntos de perforación y propiedades correctas. \n ¡REGISTRARSE AHORA!
URL:https://solidservicios.com/cal/webinar-la-transformacion-digital-de-la-industria-de-chapa-metalica-2/
ORGANIZER;CN="SOLIDSERVICIOS":MAILTO:info@solidservicios.com
END:VEVENT
BEGIN:VEVENT
DTSTART;TZID=America/Mexico_City:20231117T160000
DTEND;TZID=America/Mexico_City:20231117T170000
DTSTAMP:20260421T163002
CREATED:20231030T182558Z
LAST-MODIFIED:20231030T183110Z
UID:27367-1700236800-1700240400@solidservicios.com
SUMMARY:WEBINAR | Descubre la próxima generación de herramientas de diseño
DESCRIPTION:Impartido por: \nIng.  Noé Núñez\nIngeniero de Aplicaciones Elite \nFecha y Hora: \nViernes 17 de noviembre de 2023 | 4:00 pm a 5:00 pm \nDescripción: \nConoce las mejoras del software de diseño más completo y potente. Entérate como la integración la gestión del ciclo de vida y del diseño en 3D basada en navegador\, pueden beneficiar tus procesos de diseño\, gestión y colaboración de tus proyectos.\n \n ¡REGISTRARSE AHORA!
URL:https://solidservicios.com/cal/webinar-descubre-la-proxima-generacion-de-herramientas-de-diseno/
ORGANIZER;CN="SOLIDSERVICIOS":MAILTO:info@solidservicios.com
END:VEVENT
BEGIN:VEVENT
DTSTART;TZID=America/Mexico_City:20231110T160000
DTEND;TZID=America/Mexico_City:20231110T170000
DTSTAMP:20260421T163002
CREATED:20231030T181921Z
LAST-MODIFIED:20231030T182253Z
UID:27366-1699632000-1699635600@solidservicios.com
SUMMARY:TALLER | Draftsight\, configuración del espacio de trabajo
DESCRIPTION:Impartido por: \nIng. Juan Pérez\nIngeniero de Aplicaciones Experto CAD/CAM \nFecha y Hora: \nViernes 10 de noviembre de 2023 | 4:00 pm a 5:00 pm \nDescripción: \nEl diseño 2D dentro de SolidWorks es mas eficiente con Draftsight\, diseña desde un modelo básico hasta el layout completo con herramientas automatizadas y preconfiguradas con las mismas herramientas que conoces de otras plataformas.\n \n ¡REGISTRARSE AHORA!
URL:https://solidservicios.com/cal/taller-draftsight-configuracion-del-espacio-de-trabajo/
ORGANIZER;CN="SOLIDSERVICIOS":MAILTO:info@solidservicios.com
END:VEVENT
BEGIN:VEVENT
DTSTART;TZID=America/Mexico_City:20231108T160000
DTEND;TZID=America/Mexico_City:20231108T170000
DTSTAMP:20260421T163002
CREATED:20231030T181719Z
LAST-MODIFIED:20231030T182234Z
UID:27369-1699459200-1699462800@solidservicios.com
SUMMARY:WEBINAR | HABIA UNA VEZ UN INGENIERO...
DESCRIPTION:Presentado por: \nIng. Daniel Campos\nCoordinador de Simulación  \nIng. Jorge Salazar\nGerente de Ventas Multiproducto \nInvitado especial:\nIng. Juan Chapa\nGerente Técnico de SOLIDWORKS México \nFecha y Hora: \n8 de Noviembre de 2023 | 4:00 pm a 5:00 pm \nDescripción: \nHabía una vez un ingeniero con el desafío de abordar objetivos\, riesgos y requisitos comerciales de un modelo CAD en tiempo récord.\nEn este webinar\, conocerás con un ejemplo de una empresa real\, cómo los roles de 3dexperience ayudan de manera significativa a resolver problemas y mejorar procesos..\n \n ¡REGISTRARSE AHORA!
URL:https://solidservicios.com/cal/webinar-habia-una-vez-un-ingeniero/
ORGANIZER;CN="SOLIDSERVICIOS":MAILTO:info@solidservicios.com
END:VEVENT
BEGIN:VEVENT
DTSTART;TZID=America/Mexico_City:20231103T160000
DTEND;TZID=America/Mexico_City:20231103T170000
DTSTAMP:20260421T163002
CREATED:20231030T181230Z
LAST-MODIFIED:20231030T181230Z
UID:27365-1699027200-1699030800@solidservicios.com
SUMMARY:WEBINAR |  La transformación digital de la industria de chapa metálica
DESCRIPTION:Impartido por: \nIng.  José Robles\nIngeniero de Aplicaciones Elite \nFecha y Hora: \nViernes 03 de Noviembrede 2023 | 4:00 pm a 5:00 pm \nDescripción: \n¿Es posible que en una fábrica la maquinaria trabaje de forma conjunta e inteligente?\nDescubre en este webinar como liderar la transformación digital de la industria de chapa metálica. ¡Maximiza eficiencia y minimiza errores!.\n \n ¡REGISTRARSE AHORA!
URL:https://solidservicios.com/cal/webinar-la-transformacion-digital-de-la-industria-de-chapa-metalica/
ORGANIZER;CN="SOLIDSERVICIOS":MAILTO:info@solidservicios.com
END:VEVENT
BEGIN:VEVENT
DTSTART;TZID=America/Mexico_City:20231027T160000
DTEND;TZID=America/Mexico_City:20231027T170000
DTSTAMP:20260421T163002
CREATED:20231003T173258Z
LAST-MODIFIED:20231003T180455Z
UID:27075-1698422400-1698426000@solidservicios.com
SUMMARY:Taller | Como comunicarnos de manera mas eficiente con 3DExperience
DESCRIPTION:Impartido por: \nIng.  Noé Núñez\nIngeniero de Aplicaciones Elite \nFecha y Hora: \nViernes 27 de octubre de 2023 | 4:00 pm a 5:00 pm \nDescripción: \nConoce como romper la brecha de la comunicación vía remota con 3DMarkup\, Maximiza aún más las contribuciones de tus equipos desde cualquier lugar y con cualquier dispositivo con 3DEXPERIENCE.\n \n ¡REGISTRARSE AHORA!
URL:https://solidservicios.com/cal/taller-como-comunicarnos-de-manera-mas-eficiente-con-3dexperience/
ORGANIZER;CN="SOLIDSERVICIOS":MAILTO:info@solidservicios.com
END:VEVENT
BEGIN:VEVENT
DTSTART;TZID=America/Mexico_City:20231020T160000
DTEND;TZID=America/Mexico_City:20231020T170000
DTSTAMP:20260421T163002
CREATED:20231003T173132Z
LAST-MODIFIED:20231003T180727Z
UID:27076-1697817600-1697821200@solidservicios.com
SUMMARY:WEBINAR| Como aprovechar tu mood creativo
DESCRIPTION:Impartido por: \nIng. Daniel Campos\nIngeniero de Aplicaciones Experto \nFecha y Hora: \nViernes 20 de octubre de 2023 | 4:00 pm a 5:00 pm \nDescripción: \nEsta comprobado que con DraftSight\, puedes manipular cualquier archivo DWG 2D con facilidad\, velocidad y eficiencia. Descubre como expandir tu creatividad con la colaboración de documentos y diseño vinculando a 3DExperience.\n \n ¡REGISTRARSE AHORA!
URL:https://solidservicios.com/cal/webinar-como-aprovechar-tu-mood-creativo/
ORGANIZER;CN="SOLIDSERVICIOS":MAILTO:info@solidservicios.com
END:VEVENT
BEGIN:VEVENT
DTSTART;TZID=America/Mexico_City:20231013T160000
DTEND;TZID=America/Mexico_City:20231013T170000
DTSTAMP:20260421T163002
CREATED:20231003T173005Z
LAST-MODIFIED:20231003T180901Z
UID:27074-1697212800-1697216400@solidservicios.com
SUMMARY:Taller | SolidWorks CAM. Rasgos y Operaciones
DESCRIPTION:Impartido por: \nIng. Agustín Pérez\nIngeniero de Aplicaciones Experto \nFecha y Hora: \nViernes 13 de octubre de 2023 | 4:00 pm a 5:00 pm \nDescripción: \nGenera operaciones de manera manual\, identificando el tipo de rasgo correcto para cada operación.\n \n ¡REGISTRARSE AHORA!
URL:https://solidservicios.com/cal/taller-solidworks-cam-rasgos-y-operaciones/
ORGANIZER;CN="SOLIDSERVICIOS":MAILTO:info@solidservicios.com
END:VEVENT
BEGIN:VEVENT
DTSTART;TZID=America/Mexico_City:20231006T160000
DTEND;TZID=America/Mexico_City:20231006T200000
DTSTAMP:20260421T163002
CREATED:20231003T174558Z
LAST-MODIFIED:20231005T000941Z
UID:27082-1696608000-1696622400@solidservicios.com
SUMMARY:Evento de Lanzamiento SOLIDWORKS 2024 GDL
DESCRIPTION:GDL 6 OCTUBRE | 4:00 PM\n \n  \n ¡REGISTRARSE AHORA!
URL:https://solidservicios.com/cal/evento-de-lanzamiento-solidworks-2024-gdl/
ORGANIZER;CN="SOLIDSERVICIOS":MAILTO:info@solidservicios.com
END:VEVENT
END:VCALENDAR