BEGIN:VCALENDAR
VERSION:2.0
PRODID:-//SolidServicios - ECPv6.3.3.1//NONSGML v1.0//EN
CALSCALE:GREGORIAN
METHOD:PUBLISH
X-ORIGINAL-URL:https://solidservicios.com
X-WR-CALDESC:Eventos para SolidServicios
REFRESH-INTERVAL;VALUE=DURATION:PT1H
X-Robots-Tag:noindex
X-PUBLISHED-TTL:PT1H
BEGIN:VTIMEZONE
TZID:America/Mexico_City
BEGIN:DAYLIGHT
TZOFFSETFROM:-0600
TZOFFSETTO:-0500
TZNAME:CDT
DTSTART:20240407T080000
END:DAYLIGHT
BEGIN:STANDARD
TZOFFSETFROM:-0500
TZOFFSETTO:-0600
TZNAME:CST
DTSTART:20241027T070000
END:STANDARD
END:VTIMEZONE
BEGIN:VEVENT
DTSTART;TZID=America/Mexico_City:20241018T160000
DTEND;TZID=America/Mexico_City:20241018T170000
DTSTAMP:20260422T171745
CREATED:20240925T224741Z
LAST-MODIFIED:20240925T224936Z
UID:29802-1729267200-1729270800@solidservicios.com
SUMMARY:WEBINAR | Más allá del diseño: 3DEXPERIENCE SOLIDWORKS Ultimate
DESCRIPTION:Impartido por: \nIng. Noe Núñez \nIngeniero Elite de aplicaciones \nLic. Gerardo Santiago \nAsesor 3DExperience  \nFecha y Hora: \nViernes 18 de octubre de 2024 | 4:00 pm a 5:00 pm \nDescripción:  \nConoce lo nuevo de SOLIDWORKS Ultimate\, la nueva oferta integral que reúne las mejores herramientas de diseño\, simulación y gestión de datos en una sola solución. Aprende de la mano de expertos cómo SOLIDWORKS Ultimate puede acelerar el desarrollo de tus productos\, desde el diseño conceptual hasta la fabricación\, optimizando cada etapa del proceso. \nEste webinar es ideal para profesionales que buscan maximizar el potencial de su software de diseño y dar un salto en productividad\, innovación y colaboración \n¡REGISTRARSE AHORA!
URL:https://solidservicios.com/cal/ebinar-mas-alla-del-diseno-3dexperience-solidworks-ultimate/
END:VEVENT
BEGIN:VEVENT
DTSTART;TZID=America/Mexico_City:20241011T160000
DTEND;TZID=America/Mexico_City:20241011T170000
DTSTAMP:20260422T171745
CREATED:20240925T223241Z
LAST-MODIFIED:20240926T193919Z
UID:29800-1728662400-1728666000@solidservicios.com
SUMMARY:TALLER |  Diseña y personaliza estructuras de piezas soldadas a la medida.
DESCRIPTION:Impartido por: \nIng. Juan Pérez \nIngeniero de aplicaciones  \nFecha y Hora: \nViernes 11 de octubre de 2024 | 4:00 pm a 5:00 pm \nDescripción:  \nCon la creación de elementos personalizados\, desarrolla estructuras multi cuerpo completas añadiendo un conjunto soldado creando un modelo funcional mucho antes de la manufactura \n¡REGISTRARSE AHORA! \n 
URL:https://solidservicios.com/cal/taller-toolbox-creacion-y-personalizacion-de-elementos/
END:VEVENT
BEGIN:VEVENT
DTSTART;TZID=America/Mexico_City:20241004T170000
DTEND;TZID=America/Mexico_City:20241004T200000
DTSTAMP:20260422T171745
CREATED:20240923T172032Z
LAST-MODIFIED:20240923T172032Z
UID:29778-1728061200-1728072000@solidservicios.com
SUMMARY:SOLIDWORKS LANZAMIENTO 2025 INGENIOSAMENTE "GDL"
DESCRIPTION:Fecha y Hora: \nViernes 05 de octubre de 2024 | 5:00 pm a 8:00 pm \nDescripción:  \nDescubre cómo SOLIDWORKS en su versión 2025 puede ser ese aliado para convertir tus ideas en soluciones tangibles y eficientes. \n¡REGISTRARSE AHORA!
URL:https://solidservicios.com/cal/solidworks-lanzamiento-2025-ingeniosamente-gdl/
END:VEVENT
BEGIN:VEVENT
DTSTART;TZID=America/Mexico_City:20241003T083000
DTEND;TZID=America/Mexico_City:20241003T130000
DTSTAMP:20260422T171745
CREATED:20240923T171849Z
LAST-MODIFIED:20240923T171849Z
UID:29776-1727944200-1727960400@solidservicios.com
SUMMARY:SOLIDWORKS LANZAMIENTO 2025 INGENIOSAMENTE "CDMX"
DESCRIPTION:Fecha y Hora: \nJueves 03 de octubre de 2024 | 8:30 pm a 1:00 pm \nDescripción:  \nDescubre cómo SOLIDWORKS en su versión 2025 puede ser ese aliado para convertir tus ideas en soluciones tangibles y eficientes. \n¡REGISTRARSE AHORA!
URL:https://solidservicios.com/cal/solidworks-lanzamiento-2025-ingeniosamente-cdmx/
END:VEVENT
BEGIN:VEVENT
DTSTART;TZID=America/Mexico_City:20241002T083000
DTEND;TZID=America/Mexico_City:20241002T130000
DTSTAMP:20260422T171745
CREATED:20240923T171324Z
LAST-MODIFIED:20240923T171350Z
UID:29773-1727857800-1727874000@solidservicios.com
SUMMARY:SOLIDWORKS LANZAMIENTO 2025 INGENIOSAMENTE "QUERÉTARO"
DESCRIPTION:Fecha y Hora: \nMiércoles 02 de octubre de 2024 | 8:30 pm a 1:00 pm \nDescripción:  \nDescubre cómo SOLIDWORKS en su versión 2025 puede ser ese aliado para convertir tus ideas en soluciones tangibles y eficientes. \n¡REGISTRARSE AHORA!
URL:https://solidservicios.com/cal/solidworks-lanzamiento-2025-ingeniosamente-queretaro/
END:VEVENT
BEGIN:VEVENT
DTSTART;TZID=America/Mexico_City:20240927T160000
DTEND;TZID=America/Mexico_City:20240927T170000
DTSTAMP:20260422T171745
CREATED:20240903T162456Z
LAST-MODIFIED:20240903T162456Z
UID:29685-1727452800-1727456400@solidservicios.com
SUMMARY:TALLER |  Weldment\, creación de perfiles y sistemas estructurales
DESCRIPTION:Impartido por: \nIng. Cesar Verdeja \nIngeniero de aplicaciones  \nFecha y Hora: \nViernes 27 de septiembre de 2024 | 4:00 pm a 5:00 pm \nDescripción:  \nWeldments la herramienta que te ayudara a simplificar el diseño de estructuras metálicas\, tales como marcos\, soportes y otras construcciones que necesitan ensamblar perfiles. Esta herramienta posibilita la creación de modelos 3D de estructuras mediante el uso de perfiles estándar\, y finalmente permite la generación de planos necesarios para la fabricación. \n¡REGISTRARSE AHORA!
URL:https://solidservicios.com/cal/taller-weldment-creacion-de-perfiles-y-sistemas-estructurales/
END:VEVENT
BEGIN:VEVENT
DTSTART;TZID=America/Mexico_City:20240925T160000
DTEND;TZID=America/Mexico_City:20240925T170000
DTSTAMP:20260422T171745
CREATED:20240903T160547Z
LAST-MODIFIED:20240903T162105Z
UID:29679-1727280000-1727283600@solidservicios.com
SUMMARY:WEBINAR EXTRA |  Maquinado CNC de Precisión con la mayor eficiencia: Soluciones para Desafíos Comunes ( Torno Suizo)
DESCRIPTION:Impartido por: \nIng. Alberto Robles \nIngeniero de aplicaciones Elite \nIng. Jorge Salazar  \nGerente de Ventas Multiproducto \nFecha y Hora: \nMiércoles 25 de septiembre de 2024 | 4:00 pm a 5:00 pm \nDescripción:  \nObtén el máximo provecho a su maquinaria con las funciones avanzadas pero simples de utilizar que SolidCAM nos ofrece\, SolidCAM es compatible con una gran variedad de máquinas CNC incluidos tornos suizos y tornos multitarea\, así como centros de maquinado de 3\, 4 y 5 ejes simultáneos. \n¡REGISTRARSE AHORA!
URL:https://solidservicios.com/cal/webinar-extra-maquinado-cnc-de-precision-con-la-mayor-eficiencia-soluciones-para-desafios-comunes-torno-suizo/
END:VEVENT
BEGIN:VEVENT
DTSTART;TZID=America/Mexico_City:20240920T160000
DTEND;TZID=America/Mexico_City:20240920T170000
DTSTAMP:20260422T171745
CREATED:20240903T160230Z
LAST-MODIFIED:20240903T160339Z
UID:29675-1726848000-1726851600@solidservicios.com
SUMMARY:WEBINAR | Cómo gestionar proyectos a larga distancia y no morir en el intento
DESCRIPTION:Impartido por: \nIng. Noe Núñez  \nIngeniero de aplicaciones Elite \nIng. Edwin Barcena \nGerente de Ventas 3DExperience \nFecha y Hora: \nViernes 20 de septiembre de 2024 | 4:00 pm a 5:00 pm \nDescripción:  \nÚnete a nuestro próximo webinar donde exploraremos cómo llevar tu planificación de proyectos al siguiente nivel utilizando SOLIDWORKS y la herramienta Project Planner de la plataforma 3DEXPERIENCE. Descubre cómo estas poderosas herramientas pueden ayudarte a gestionar proyectos de ingeniería de manera más eficiente\, colaborativa y precisa. Durante este evento\, expertos en la materia te guiarán a través de mejores prácticas\, demostraciones en vivo y casos de éxito que te permitirán optimizar tus procesos desde el diseño hasta la ejecución. \n¡REGISTRARSE AHORA!
URL:https://solidservicios.com/cal/webinar-como-gestionar-proyectos-a-larga-distancia-y-no-morir-en-el-intento/
END:VEVENT
BEGIN:VEVENT
DTSTART;TZID=America/Mexico_City:20240913T160000
DTEND;TZID=America/Mexico_City:20240913T170000
DTSTAMP:20260422T171745
CREATED:20240903T154309Z
LAST-MODIFIED:20240903T154309Z
UID:29673-1726243200-1726246800@solidservicios.com
SUMMARY:TALLER | Estudio de medios porosos en Fluid dynamics Enginner
DESCRIPTION:Impartido por: \nIng. Fernando Rivera \nIngeniero de aplicaciones  \nFecha y Hora: \nViernes 13 de septiembre de 2024 | 4:00 pm a 5:00 pm \nDescripción:  \nSe mostrara el flujo de trabajo para configurar un medio poroso (filtros\, esponjas catalizadores etc) en un estudio interno de dinámica de fluidos \n  \n¡REGISTRARSE AHORA!
URL:https://solidservicios.com/cal/taller-estudio-de-medios-porosos-en-fluid-dynamics-enginner/
END:VEVENT
BEGIN:VEVENT
DTSTART;TZID=America/Mexico_City:20240911T160000
DTEND;TZID=America/Mexico_City:20240911T170000
DTSTAMP:20260422T171745
CREATED:20240903T153631Z
LAST-MODIFIED:20240903T153631Z
UID:29671-1726070400-1726074000@solidservicios.com
SUMMARY:WEBINAR EXTRA | Transición Sencilla a Herramientas Avanzadas en una Misma Plataforma
DESCRIPTION:Impartido por: \nIng. Agustín Pérez  \nIngeniero de aplicaciones  \nLic. Alfonso Trueba  \nGerente de Ventas CAD \nFecha y Hora: \nMiércoles 11 de septiembre de 2024 | 4:00 pm a 5:00 pm \nDescripción:  \nEn este webinar veremos de manera sencilla como cambiar esos modelos en 2D\, a 3D. \n¡REGISTRARSE AHORA!
URL:https://solidservicios.com/cal/webinar-extra-transicion-sencilla-a-herramientas-avanzadas-en-una-misma-plataforma/
END:VEVENT
BEGIN:VEVENT
DTSTART;TZID=America/Mexico_City:20240906T160000
DTEND;TZID=America/Mexico_City:20240906T170000
DTSTAMP:20260422T171745
CREATED:20240903T150140Z
LAST-MODIFIED:20240903T150752Z
UID:29668-1725638400-1725642000@solidservicios.com
SUMMARY:WEBINAR | Descubre la viabilidad de tu proyecto de piezas plásticas
DESCRIPTION:Impartido por: \nIng. Fernando Rivera \nIngeniero de aplicaciones ELITE \nIng. Salvador Cruz  \nEjecutivo de Simulación \nFecha y Hora: \nViernes 06 de septiembre de 2024 | 4:00 pm a 5:00 pm \nDescripción:  \nSe mostraran las ventajas competitivas del rol Plastics Inyection Enginner de 3DExperience \n  \n¡REGISTRARSE AHORA!
URL:https://solidservicios.com/cal/webinar-descubre-la-viabilidad-de-tu-proyecto-de-piezas-plasticas/
END:VEVENT
BEGIN:VEVENT
DTSTART;TZID=America/Mexico_City:20240830T160000
DTEND;TZID=America/Mexico_City:20240830T170000
DTSTAMP:20260422T171745
CREATED:20240723T182348Z
LAST-MODIFIED:20240723T182348Z
UID:29519-1725033600-1725037200@solidservicios.com
SUMMARY:TALLER |  SOLIDCAM Librerías Toolkit
DESCRIPTION:Impartido por: \nIng. Agustín Pérez  \nIngeniero de aplicaciones ELITE \nFecha y Hora: \nViernes 30 de agosto de 2024 | 4:00 pm a 5:00 pm \nDescripción:  \nEl taller “Librerías de Toolkit” está diseñado para aquellos interesados en optimizar su experiencia con SolidCAM y maximizar la eficiencia en el maquinado. Durante este taller\, aprenderás. \n• Crear Librerías Personalizadas:\n• Organizar y clasificar las herramientas para una gestión más eficiente.\n• Agregar Herramientas Nuevas:\n• Compartiremos estrategias para mantener nuestras librerías actualizadas\n• Importación y Exportación de Librerías:\n• Analizaremos cómo importar y exportar librerías entre proyectos \n  \n¡REGISTRARSE AHORA!
URL:https://solidservicios.com/cal/taller-solidcam-librerias-toolkit/
END:VEVENT
BEGIN:VEVENT
DTSTART;TZID=America/Mexico_City:20240828T160000
DTEND;TZID=America/Mexico_City:20240828T170000
DTSTAMP:20260422T171745
CREATED:20240723T182103Z
LAST-MODIFIED:20240723T182103Z
UID:29517-1724860800-1724864400@solidservicios.com
SUMMARY:WEBINAR EXTRA | Cómo proteger la información industrial mientras se preserva la continuidad empresarial.
DESCRIPTION:Impartido por: \nIng. Ruben González  \nGerente de Ingeniería  \nFecha y Hora: \nMiércoles 28 de agosto de 2024 | 4:00 pm a 5:00 pm \nDescripción:  \nSi bien es cierto\, proteger la confidencialidad\, la integridad y la accesibilidad de la información\, sigue siendo la lucha diaria de la mayoría de los profesionales de la ciberseguridad.\nDescubre con que herramienta podemos reforzar y salvaguardar la información de nuestros servidores. \n  \n¡REGISTRARSE AHORA!
URL:https://solidservicios.com/cal/webinar-extra-como-proteger-la-informacion-industrial-mientras-se-preserva-la-continuidad-empresarial/
END:VEVENT
BEGIN:VEVENT
DTSTART;TZID=America/Mexico_City:20240823T160000
DTEND;TZID=America/Mexico_City:20240823T170000
DTSTAMP:20260422T171745
CREATED:20240723T181149Z
LAST-MODIFIED:20240723T181253Z
UID:29515-1724428800-1724432400@solidservicios.com
SUMMARY:WEBINAR | Cumplimiento de Normas de Calidad en la Industria Automotriz y Aeroespacial con 3DEXPERIENCE
DESCRIPTION:Impartido por: \nIng. Noé Núñez \nIngeniero de Aplicaciones ELITE \nIng. Edwin Barcena \n 3DExperience Sales Manager  \nFecha y Hora: \nViernes 23 de agosto de 2024 | 4:00 pm a 5:00 pm \nDescripción:  \nÚnete a nuestro webinar exclusivo y descubre cual es la plataforma que puede transformar tus procesos de calidad y cumplimiento en las industrias automotriz y aeroespacial. En este evento\, exploraremos las avanzadas capacidades de 3DEXPERIENCE para gestionar y asegurar el cumplimiento de las normas y regulaciones de calidad más estrictas. Aprende a integrar\, monitorear y optimizar tus procesos de calidad desde el diseño hasta la producción\, garantizando productos de alta calidad y fiabilidad. \n  \n¡REGISTRARSE AHORA!
URL:https://solidservicios.com/cal/webinar-cumplimiento-de-normas-de-calidad-en-la-industria-automotriz-y-aeroespacial-con-3dexperience/
END:VEVENT
BEGIN:VEVENT
DTSTART;TZID=America/Mexico_City:20240816T160000
DTEND;TZID=America/Mexico_City:20240816T170000
DTSTAMP:20260422T171745
CREATED:20240723T180011Z
LAST-MODIFIED:20240723T184338Z
UID:29510-1723824000-1723827600@solidservicios.com
SUMMARY:TALLER | Preparación certificación CSWA Parte 2
DESCRIPTION:Impartido por: \nIng. Hiram Lugo \nIngeniero de Aplicaciones  \nFecha y Hora: \nViernes 16 de agosto de 2024 | 4:00 pm a 5:00 pm \nDescripción:  \nDurante este segundo bloque del taller se explicarán a detalle herramientas y estrategias de modelado fundamentales para el dominio del modelado mecánico de piezas básicas. Además\, se explicarán como realizar un ensamble y agregar las relaciones de posición\, dando tips para realizarlo de forma rápida. Al finalizar habrá una sección de preguntas y respuestas \n  \n¡REGISTRARSE AHORA!
URL:https://solidservicios.com/cal/taller-preparacion-certificacion-cswa-parte-2/
END:VEVENT
BEGIN:VEVENT
DTSTART;TZID=America/Mexico_City:20240814T160000
DTEND;TZID=America/Mexico_City:20240814T170000
DTSTAMP:20260422T171745
CREATED:20240723T175604Z
LAST-MODIFIED:20240814T190924Z
UID:29508-1723651200-1723654800@solidservicios.com
SUMMARY:WEBINAR EXTRA |  Top 5: problemas y soluciones en el mecanizado CNC
DESCRIPTION:Impartido por: \nIng. Alberto Robles \nCoordinador de Ingeniería  \nIng. Sandra García \n Experta Asesora CAM  \nFecha y Hora: \nMiércoles 14 de agosto de 2024 | 4:00 pm a 5:00 pm \nDescripción:  \nHoy abordaremos un tema crucial para la eficiencia y productividad en la industria del maquinado: los cinco problemas principales y sus soluciones en la optimización de procesos de corte y manufactura. \n  \n¡REGISTRARSE AHORA!
URL:https://solidservicios.com/cal/webinar-extra-top-5-problemas-y-soluciones-en-el-mecanizado-cnc/
END:VEVENT
BEGIN:VEVENT
DTSTART;TZID=America/Mexico_City:20240809T160000
DTEND;TZID=America/Mexico_City:20240809T170000
DTSTAMP:20260422T171745
CREATED:20240723T174844Z
LAST-MODIFIED:20240723T184123Z
UID:29506-1723219200-1723222800@solidservicios.com
SUMMARY:WEBINAR | Transforma tus Comunicaciones Técnicas con SOLIDWORKS Composer
DESCRIPTION:Impartido por: \nIng. Noe Núñez \nIngeniero de aplicaciones ELITE \nIng. Alfonso Trueba  \nCAD  Sales Manager \nFecha y Hora: \nViernes 9 de agosto de 2024 | 4:00 pm a 5:00 pm \nDescripción:  \nDescubre cómo SOLIDWORKS Composer puede revolucionar la manera en que creas y gestionas tus comunicaciones técnicas.\nEn este webinar exclusivo\, exploraremos las potentes herramientas de SOLIDWORKS Composer que permiten a los equipos de ingeniería y diseño producir contenido visual impactante\, claro y efectivo. \nDesde manuales de usuario hasta instrucciones de ensamblaje\, aprende a optimizar tus procesos y a mejorar la precisión y comprensión de tus documentos técnicos. \n  \n¡REGISTRARSE AHORA!
URL:https://solidservicios.com/cal/webinar-transforma-tus-comunicaciones-tecnicas-con-solidworks-composer/
END:VEVENT
BEGIN:VEVENT
DTSTART;TZID=America/Mexico_City:20240802T160000
DTEND;TZID=America/Mexico_City:20240802T170000
DTSTAMP:20260422T171745
CREATED:20240723T174307Z
LAST-MODIFIED:20240723T174307Z
UID:29504-1722614400-1722618000@solidservicios.com
SUMMARY:TALLER | Preparación certificación CSWA Parte 1
DESCRIPTION:Impartido por: \nIng. Hiram Lugo \nIngeniero de aplicaciones \nFecha y Hora: \nViernes 2 de agosto de 2024 | 4:00 pm a 5:00 pm \nDescripción:  \nDurante este primer bloque del taller se explicará en que consiste la certificación CSWA\, como se divide y el nivel de conocimiento que se debe tener para este nivel de certificación. Se verán ejemplos de modelado de algunas piezas utilizando las herramientas y técnicas necesarias para el correcto manejo de las preguntas de certificación\, por otra parte\, se realizarán preguntas ejemplo y se responderán ahí mismo. Al finalizar habrá una sección de preguntas y respuestas. \n  \n¡REGISTRARSE AHORA!
URL:https://solidservicios.com/cal/taller-preparacion-certificacion-cswa-parte-1/
END:VEVENT
BEGIN:VEVENT
DTSTART;TZID=America/Mexico_City:20240731T160000
DTEND;TZID=America/Mexico_City:20240731T170000
DTSTAMP:20260422T171745
CREATED:20240626T234554Z
LAST-MODIFIED:20240627T170535Z
UID:29336-1722441600-1722445200@solidservicios.com
SUMMARY:WEBINAR EXTRA | ¿Para que sirve la automatización de diseños? Descúbrelo y benefíciate.
DESCRIPTION:Impartido por: \nIng. Juan Pérez \nIngeniero de aplicaciones Elite \nFecha y Hora: \nMiércoles 31 de julio de 2024 | 4:00 pm a 5:00 pm \nDescripción:  \n¿Para qué sirve la automatización de diseños? \nDescúbrelo y benefíciate. \nDescubre cómo DraftSight puede revolucionar tus procesos de diseño\, ahorrándote tiempo y mejorando la precisión en tus proyectos. \nÚnete a nosotros para explorar las increíbles ventajas de la automatización y cómo puedes aplicarlas en tu trabajo diario. \n  \n¡REGISTRARSE AHORA!
URL:https://solidservicios.com/cal/webinar-extra-para-que-sirve-la-automatizacion-de-disenos-descubrelo-y-beneficiate/
END:VEVENT
BEGIN:VEVENT
DTSTART;TZID=America/Mexico_City:20240726T160000
DTEND;TZID=America/Mexico_City:20240726T170000
DTSTAMP:20260422T171745
CREATED:20240626T234312Z
LAST-MODIFIED:20240627T191510Z
UID:29333-1722009600-1722013200@solidservicios.com
SUMMARY:WEBINAR | "Amplifica" tus diseños eléctricos
DESCRIPTION:Impartido por: \nIng. Cesar Verdeja \nIngeniero de aplicaciones  \nIng. Alberto Robles  \nCoordinador de Ingeniería Elite \nFecha y Hora: \nViernes 26 de julio de 2024 | 4:00 pm a 5:00 pm \nDescripción:  \nDescubre todo lo que hay detrás de un amplificador\, que le de el power a una guitarra rockeando.. \nDiseña sistemas eléctricos y aprende a predecir colisiones a distancias mínimas requeridas para nuestros proyectos. \n¡REGISTRARSE AHORA!
URL:https://solidservicios.com/cal/webinar-amplifica-tus-disenos-electricos/
END:VEVENT
BEGIN:VEVENT
DTSTART;TZID=America/Mexico_City:20240719T160000
DTEND;TZID=America/Mexico_City:20240719T170000
DTSTAMP:20260422T171745
CREATED:20240626T233736Z
LAST-MODIFIED:20240626T233746Z
UID:29330-1721404800-1721408400@solidservicios.com
SUMMARY:TALLER | Transforma tus Diseños con la xApp de 3D Creator
DESCRIPTION:Impartido por: \nIng. Noe Núñez \nIngeniero de aplicaciones Elite \nFecha y Hora: \nViernes 19 de julio de 2024 | 4:00 pm a 5:00 pm \nDescripción:  \nÚnete a nuestro taller web exclusivo y descubre el poder de la xApp de 3D Creator de 3DEXPERIENCE. \nAprende de la mano de expertos cómo esta herramienta revolucionaria puede transformar tu flujo de trabajo de diseño 3D. Desde la conceptualización hasta la creación de prototipos\, este taller te guiará a través de todas las funcionalidades que la xApp tiene para ofrecer\, permitiéndote llevar tus proyectos al siguiente nivel. \nNo te pierdas esta oportunidad de optimizar tus habilidades y mejorar la eficiencia de tu equipo con las soluciones innovadoras de 3DEXPERIENCE. \n  \n¡REGISTRARSE AHORA! \n 
URL:https://solidservicios.com/cal/taller-transforma-tus-disenos-con-la-xapp-de-3d-creator/
END:VEVENT
BEGIN:VEVENT
DTSTART;TZID=America/Mexico_City:20240717T160000
DTEND;TZID=America/Mexico_City:20240717T170000
DTSTAMP:20260422T171745
CREATED:20240625T230836Z
LAST-MODIFIED:20240628T144157Z
UID:29292-1721232000-1721235600@solidservicios.com
SUMMARY:WEBINAR EXTRA | De película: De Hollywood a tus manos escáners 3D.
DESCRIPTION:Impartido por: \nIng. Hiram Lugo \nIngeniero de Aplicaciones  \nIng. Jaime Borrego \nEjecutivo Experto CAD/CAM \nFecha y Hora: \nMiércoles 17 de julio de 2024 | 4:00 pm a 5:00 pm \nDescripción:  \nDurante el webinar se hablará principalmente sobre las tecnologías actualmente disponibles para los Escáner 3D y como realizar piezas complejas a partir de una pieza física que se requiera replicar o reproducir en serie\, para esto se utilizarán herramientas de Geomagic for SOLIDWORKS de forma que veamos como reparar mallas obtenidas a partir de la nube de puntos proporcionada por el Escáner 3D. \n  \n ¡REGISTRARSE AHORA!
URL:https://solidservicios.com/cal/webinar-extra-de-pelicula-de-hollywood-a-tus-manos-escaners-3d/
END:VEVENT
BEGIN:VEVENT
DTSTART;TZID=America/Mexico_City:20240712T160000
DTEND;TZID=America/Mexico_City:20240712T170000
DTSTAMP:20260422T171745
CREATED:20240625T234846Z
LAST-MODIFIED:20240627T170420Z
UID:29297-1720800000-1720803600@solidservicios.com
SUMMARY:WEBINAR | Metaverso Industrial. Un nuevo panorama de amenazas.
DESCRIPTION:Impartido por: \nIng. Saul Ochoa  \nIngeniero en desarrollo de Software   \nFecha y Hora: \nViernes 12 de julio de 2024 | 4:00 pm a 5:00 pm \nDescripción:  \nDescripción:  \nExploraremos cómo la convergencia de tecnologías avanzadas está transformando las industrias a través del metaverso\, una realidad virtual compartida que permite la interacción inmersiva entre humanos y máquinas. Sin embargo\, este avance también trae consigo nuevos desafíos en el ámbito de la ciberseguridad. \nAbordaremos las amenazas emergentes que pueden comprometer la integridad\, disponibilidad y confidencialidad de los datos industriales\, y discutiremos estrategias efectivas para mitigar estos riesgos y proteger los entornos virtuales. \nAcompáñenos en este viaje para entender el futuro del metaverso industrial y cómo podemos prepararnos para asegurar su desarrollo seguro y sostenible. \n  \n¡REGISTRARSE AHORA! \n 
URL:https://solidservicios.com/cal/webinar-kaspersky-metaverso-industrial-un-nuevo-panorama-de-amenazas/
END:VEVENT
BEGIN:VEVENT
DTSTART;TZID=America/Mexico_City:20240705T160000
DTEND;TZID=America/Mexico_City:20240705T170000
DTSTAMP:20260422T171745
CREATED:20240625T233337Z
LAST-MODIFIED:20240625T233337Z
UID:29295-1720195200-1720198800@solidservicios.com
SUMMARY:TALLER | Programador de Tareas
DESCRIPTION:Impartido por: \nIng. Cesar Verdeja \nIngeniero de Aplicaciones  \nFecha y Hora: \nMiércoles 05 de julio de 2024 | 4:00 pm a 5:00 pm \nDescripción:  \nEl “Programador de tareas” de SolidWorks es una herramienta que permite a los usuarios automatizar y programar tareas dentro del entorno de SolidWorks fuera de las horas punta del tiempo de trabajo. Esta función es particularmente útil para realizar operaciones repetitivas o procesos que requieren una secuencia específica de acciones. \n ¡REGISTRARSE AHORA!
URL:https://solidservicios.com/cal/taller-programador-de-tareas/
END:VEVENT
BEGIN:VEVENT
DTSTART;TZID=America/Mexico_City:20240703T160000
DTEND;TZID=America/Mexico_City:20240703T170000
DTSTAMP:20260422T171745
CREATED:20240626T232854Z
LAST-MODIFIED:20240628T144242Z
UID:29327-1720022400-1720026000@solidservicios.com
SUMMARY:WEBINAR EXTRA | Abre la puerta a nuevas posibilidades con impresión 3D.
DESCRIPTION:Impartido por: \nIng. Hiram Lugo \nIngeniero de aplicaciones experto \nIng. Jaime Borrego \nAsesor Experto CAD/CAM   \nFecha y Hora: \nMiércoles 03 de julio de 2024 | 4:00 pm a 5:00 pm \nDescripción:  \nDurante el webinar se englobarán diferentes puntos relacionados a la impresión 3D\, enfocándose en las ventajas y el alcance que puede llegar a existir al incluir una impresora 3D en cualquier empresa. Todo lo anterior explicado desde las fortalezas\, materiales\, tecnología\, etc. de la impresora MJP 300W. \nSe presentarán ejemplos concretos y características técnicas de la impresora\, así como un flujo de trabajo completo de como se prepararía una pieza desde\nel software de 3D Sprint\, mostrando la facilidad con la que un usuario puede imprimir sus modelos 3D. \n  \n¡REGISTRARSE AHORA! \n 
URL:https://solidservicios.com/cal/webinar-extra-abre-la-puerta-a-nuevas-posibilidades-con-impresion-3d/
END:VEVENT
BEGIN:VEVENT
DTSTART;TZID=America/Mexico_City:20240628T160000
DTEND;TZID=America/Mexico_City:20240628T170000
DTSTAMP:20260422T171745
CREATED:20240528T180323Z
LAST-MODIFIED:20240528T180323Z
UID:29170-1719590400-1719594000@solidservicios.com
SUMMARY:WEBINAR | Volver al futuro: Ingeniería inversa
DESCRIPTION:Impartido por: \nIng. Hiram Lugo \nIngeniero de Aplicaciones  \nIng. Jaime Borrego \nEjecutivo Experto CAD/CAM \nFecha y Hora: \nViernes 28 de junio de 2024 | 4:00 pm a 5:00 pm \nDescripción:  \nRecrea diseños basados en los que ya existen\, para que aceleres tus desarrollos\, reduzcas riesgos y aumentes tu productividad. Durante el webinar se hablará principalmente sobre las tecnologías actualmente disponibles para los Escáner 3D y como realizar piezas complejas a partir de una pieza física que se requiera\nreplicar o reproducir en serie. \n  \n ¡REGISTRARSE AHORA!
URL:https://solidservicios.com/cal/webinar-volver-al-futuro-ingenieria-inversa/
END:VEVENT
BEGIN:VEVENT
DTSTART;TZID=America/Mexico_City:20240621T160000
DTEND;TZID=America/Mexico_City:20240621T170000
DTSTAMP:20260422T171745
CREATED:20240528T180059Z
LAST-MODIFIED:20240528T180059Z
UID:29168-1718985600-1718989200@solidservicios.com
SUMMARY:TALLER | Diseño esquemático de arneses y ensamble 3D
DESCRIPTION:Impartido por: \nIng. Alberto Robles \nCoordinador de Ingeniería  \nFecha y Hora: \nViernes  21  de junio de 2024 | 4:00 pm a 5:00 pm \nDescripción:  \nAcelere el tiempo de desarrollo de sus productos con SOLIDWORKS Electrical\, único en su capacidad para generar y automatizar diseños esquemáticos permitiéndole trabajar simultáneamente aspectos eléctricos\, neumáticos y mecánicos de sus proyectos \n  \n ¡REGISTRARSE AHORA!
URL:https://solidservicios.com/cal/taller-diseno-esquematico-de-arneses-y-ensamble-3d/
END:VEVENT
BEGIN:VEVENT
DTSTART;TZID=America/Mexico_City:20240614T160000
DTEND;TZID=America/Mexico_City:20240614T170000
DTSTAMP:20260422T171745
CREATED:20240528T175607Z
LAST-MODIFIED:20240528T175607Z
UID:29166-1718380800-1718384400@solidservicios.com
SUMMARY:WEBINAR | Descubre como hacer tus mecanizados más rápidos y mejor.
DESCRIPTION:Impartido por: \nIng. Alberto Robles \nCoordinador de Ingeniería  \nIng. Sandra García  \nEjecutivo Experto CAD/CAM \nFecha y Hora: \nViernes 14 de junio de 2024 | 4:00 pm a 5:00 pm \nDescripción:  \nEl Asistente de Tecnología iMachining proporciona avances y velocidades óptimas para cualquier material y máquina CNC asegurando el éxito al primer intento. Mecaniza en CNC más rápido\, incluso con herramientas más pequeñas y materiales más duros. El conocimiento y la sabiduría de cientos de expertos en CAM y CNC en la palma de tu mano con el Asistente de trayectorias e iMachining. \n  \n ¡REGISTRARSE AHORA!
URL:https://solidservicios.com/cal/webinar-descubre-como-hacer-tus-mecanizados-mas-rapidos-y-mejor/
END:VEVENT
BEGIN:VEVENT
DTSTART;TZID=America/Mexico_City:20240612T083000
DTEND;TZID=America/Mexico_City:20240612T120000
DTSTAMP:20260422T171745
CREATED:20240528T190202Z
LAST-MODIFIED:20240528T190354Z
UID:29174-1718181000-1718193600@solidservicios.com
SUMMARY:CONFERENCIA | Seguridad sin límites
DESCRIPTION:Fecha y Hora: \nMiércoles 12 de junio de 2024 | 8:30 am a 12:00 pm \nDescripción:  \nAcompáñanos a disfrutar desayuno exclusivo donde también exploraremos el emocionante mundo de la ciberseguridad en entornos industriales\, y veremos algunos casos reales de ataques cibernéticos. \nDescubre cómo la solución Kaspersky KICKS se establece como la mejor defensa ante las amenazas digitales que acechan nuestros sistemas OT. \n  \n ¡REGISTRARSE AHORA!
URL:https://solidservicios.com/cal/conferencia-seguridad-sin-limites/
END:VEVENT
BEGIN:VEVENT
DTSTART;TZID=America/Mexico_City:20240607T160000
DTEND;TZID=America/Mexico_City:20240607T170000
DTSTAMP:20260422T171745
CREATED:20240528T175218Z
LAST-MODIFIED:20240528T175218Z
UID:29164-1717776000-1717779600@solidservicios.com
SUMMARY:TALLER | Tips para aprovechar al 100 tu Drawings
DESCRIPTION:Impartido por: \nIng. Fernando Rivera  \nIngeniero en simulación \nFecha y Hora: \nViernes 07 de junio de 2024 | 4:00 pm a 5:00 pm \nDescripción:  \nAutomatiza tus flujos de trabajo para generar la documentación necesaria de tus modelos. A través de múltiples herramientas\, le guiaremos paso a paso para aprovechar el 100% de las herramientas de SolidWorks Drawings. \n  \n ¡REGISTRARSE AHORA!
URL:https://solidservicios.com/cal/taller-tips-para-aprovechar-al-100-tu-drawings/
END:VEVENT
END:VCALENDAR