BEGIN:VCALENDAR
VERSION:2.0
PRODID:-//SolidServicios - ECPv6.3.3.1//NONSGML v1.0//EN
CALSCALE:GREGORIAN
METHOD:PUBLISH
X-ORIGINAL-URL:https://solidservicios.com
X-WR-CALDESC:Eventos para SolidServicios
REFRESH-INTERVAL;VALUE=DURATION:PT1H
X-Robots-Tag:noindex
X-PUBLISHED-TTL:PT1H
BEGIN:VTIMEZONE
TZID:America/Mexico_City
BEGIN:DAYLIGHT
TZOFFSETFROM:-0600
TZOFFSETTO:-0500
TZNAME:CDT
DTSTART:20220403T080000
END:DAYLIGHT
BEGIN:STANDARD
TZOFFSETFROM:-0500
TZOFFSETTO:-0600
TZNAME:CST
DTSTART:20221030T070000
END:STANDARD
TZID:UTC
BEGIN:STANDARD
TZOFFSETFROM:+0000
TZOFFSETTO:+0000
TZNAME:UTC
DTSTART:20190101T000000
END:STANDARD
END:VTIMEZONE
BEGIN:VEVENT
DTSTART;TZID=America/Mexico_City:20221007T183000
DTEND;TZID=America/Mexico_City:20221007T210000
DTSTAMP:20260422T064654
CREATED:20220914T170019Z
LAST-MODIFIED:20220914T170019Z
UID:25232-1665167400-1665176400@solidservicios.com
SUMMARY:Evento de Lanzamiento SOLIDWORKS 2023 | Presentación GUADALAJRA
DESCRIPTION:[vc_row][vc_column width=”1/2″][vc_column_text] \n\nRESERVA TU LUGAR AQUÍ \n\n[/vc_column_text][vc_column_text] \n\nDescubre las últimas actualizaciones que SOLIDWORKS te ofrece para obtener una experiencia de diseño\, tecnología e innovación excepcional. \nDesde los inicios del Diseño CAD\, SOLIDWORKS se hace presente con su gran capacidad de innovación que se vuelve asequible para todos a través de sus múltiples soluciones\, liderando la carrera de las herramientas tecnológicas que solventan todas y cada una de las necesidades de las empresas para despegar competitivamente en el mercado. \n\n[/vc_column_text][vc_column_text] \nViernes 07 Octubre\n\nHOTEL WESTIN GUADALAJARA\nAv de Las Rosas 2911\, Verde Valle\,\n44530 Guadalajara\, Jal. \n\n[/vc_column_text][vc_single_image image=”25140″ img_size=”full” alignment=”center”][vc_single_image image=”25106″ img_size=”full” alignment=”center”][/vc_column][vc_column width=”1/2″][vc_raw_js]JTNDc2NyaXB0JTIwc3JjJTNEJTIyaHR0cHMlM0ElMkYlMkZta3RkcGxwMTAyY2RuLmF6dXJlZWRnZS5uZXQlMkZwdWJsaWMlMkZsYXRlc3QlMkZqcyUyRmZvcm0tbG9hZGVyLmpzJTNGdiUzRDEuODQuMjAwNyUyMiUzRSUzQyUyRnNjcmlwdCUzRSUyMCUzQ2RpdiUyMGNsYXNzJTNEJTIyZDM2NS1ta3QtY29uZmlnJTIyJTIwc3R5bGUlM0QlMjJkaXNwbGF5JTNBbm9uZSUyMiUyMGRhdGEtd2Vic2l0ZS1pZCUzRCUyMlhweEJYNGlyQmlVSE5hZkcwUHJfR1lod2VjTVp0ZkE5YkF2OFFHVzFhTnclMjIlMjBkYXRhLWhvc3RuYW1lJTNEJTIyNzY1ZjgzNjhkOThlNDVlYTgyMjg3ZTJmOWYwNWQ0YWUuc3ZjLmR5bmFtaWNzLmNvbSUyMiUzRSUyMCUzQyUyRmRpdiUzRSUyMCUzQ2RpdiUyMGRhdGEtZm9ybS1ibG9jay1pZCUzRCUyMjBiZTU0YzYzLTNlMjktZWQxMS05ZGIxLTAwMjI0ODI2ZDgxNSUyMiUzRSUzQyUyRmRpdiUzRQ==[/vc_raw_js][/vc_column][/vc_row]
URL:https://solidservicios.com/cal/evento-de-lanzamiento-solidworks-2023-presentacion-guadalajra/
LOCATION:Hotel Westin Guadalajara\, Av de Las Rosas 2911\, Guadalajara\, Jalisco\, 44530\, México
ATTACH;FMTTYPE=image/jpeg:https://solidservicios.com/wp-content/uploads/Landing-GDL.jpg
ORGANIZER;CN="SOLIDSERVICIOS":MAILTO:info@solidservicios.com
END:VEVENT
BEGIN:VEVENT
DTSTART;TZID=UTC:20191011T153000
DTEND;TZID=UTC:20191011T200000
DTSTAMP:20260422T064654
CREATED:20190912T235401Z
LAST-MODIFIED:20190913T001624Z
UID:13901-1570807800-1570824000@solidservicios.com
SUMMARY:EVENTO DE LANZAMIENTO SOLIDWORKS 2020 | GUADALAJARA
DESCRIPTION:Únete a este gran evento de Lanzamiento donde podrás ver las grandes mejoras que ofrece SOLIDWORKS 2020. Mejore drásticamente la forma en la que desarrolla y fabrica productos con herramientas completas de diseño\, simulación\, fabricación\, gestión de datos y colaboración que lo ayudarán a reducir costos y mejorar la calidad. \n  \nCada año el equipo de I+D de SOLIDWORKS realiza las mejoras a nuestro portafolio de productos\, todo con base a sus solicitudes\, este año SOLIDWORKS se centro en los siguientes puntos: \n\nRendimiento mejorado.\nFlujo de trabajo optimizados.\nEcosistema conectado de diseño a fabricación en la nube.
URL:https://solidservicios.com/cal/evento-de-lanzamiento-solidworks-2020-guadalajara/
LOCATION:Hotel Westin Guadalajara\, Av de Las Rosas 2911\, Guadalajara\, Jalisco\, 44530\, México
ATTACH;FMTTYPE=image/jpeg:https://solidservicios.com/wp-content/uploads/SolidServicios-Lanzamiento-SolidWorks-2020.jpg
ORGANIZER;CN="SOLIDSERVICIOS":MAILTO:info@solidservicios.com
END:VEVENT
END:VCALENDAR